BEGIN:VCALENDAR
VERSION:2.0
PRODID:-//Cape Fear Botanical Gardens - ECPv6.15.20//NONSGML v1.0//EN
CALSCALE:GREGORIAN
METHOD:PUBLISH
X-WR-CALNAME:Cape Fear Botanical Gardens
X-ORIGINAL-URL:https://capefearbg.org
X-WR-CALDESC:Events for Cape Fear Botanical Gardens
REFRESH-INTERVAL;VALUE=DURATION:PT1H
X-Robots-Tag:noindex
X-PUBLISHED-TTL:PT1H
BEGIN:VTIMEZONE
TZID:America/New_York
BEGIN:DAYLIGHT
TZOFFSETFROM:-0500
TZOFFSETTO:-0400
TZNAME:EDT
DTSTART:20240310T070000
END:DAYLIGHT
BEGIN:STANDARD
TZOFFSETFROM:-0400
TZOFFSETTO:-0500
TZNAME:EST
DTSTART:20241103T060000
END:STANDARD
BEGIN:DAYLIGHT
TZOFFSETFROM:-0500
TZOFFSETTO:-0400
TZNAME:EDT
DTSTART:20250309T070000
END:DAYLIGHT
BEGIN:STANDARD
TZOFFSETFROM:-0400
TZOFFSETTO:-0500
TZNAME:EST
DTSTART:20251102T060000
END:STANDARD
BEGIN:DAYLIGHT
TZOFFSETFROM:-0500
TZOFFSETTO:-0400
TZNAME:EDT
DTSTART:20260308T070000
END:DAYLIGHT
BEGIN:STANDARD
TZOFFSETFROM:-0400
TZOFFSETTO:-0500
TZNAME:EST
DTSTART:20261101T060000
END:STANDARD
END:VTIMEZONE
BEGIN:VEVENT
DTSTART;TZID=America/New_York:20250717T180000
DTEND;TZID=America/New_York:20250717T193000
DTSTAMP:20260420T230625
CREATED:20250623T201758Z
LAST-MODIFIED:20250922T134012Z
UID:13509-1752775200-1752780600@capefearbg.org
SUMMARY:Family Art Night: Paint Pour River Rocks
DESCRIPTION:Please preregister here.  \nCreate stunning colorful river rocks using an easy paint pouring technique that everyone in the family will love. Each rock is unique and the color patterns are amazing and unpredictable. We’ll make creativity easy and handle all the messes. \nAudience Target: This event is perfect for families looking to spend quality time together while engaging in a creative activity. All ages are welcome\, and no prior artistic experience is necessary. \nFormat: Interactive and family-friendly\, this workshop encourages participants to work together\, share ideas\, and create lasting memories. \nFee Includes:  \n\nAll the supplies for each family to create 10-15 Painted Rocks\nGuided instruction from an experienced teacher\nLight refreshments and snacks\nA unique “Mocktail” to enjoy while creating your art\nAdmission to the Garden’s Thursday night hours\n\nBeer and wine may be purchased in the Gift Shop for adults ages 21+. \nLocation: Please enter through the Gift Shop and meet in the Classroom. \nFee: $40 per family\, $35 for Garden Members \nPlease preregister here. 
URL:https://capefearbg.org/event/family-art-night-paint-pour-river-rocks-2/
LOCATION:Cape Fear Botanical Garden\, 536 N. Eastern Boulevard\, Fayetteville\, NC\, 28301\, United States
ATTACH;FMTTYPE=image/jpeg:https://capefearbg.org/wp-content/uploads/2025/06/20250503_162039-scaled-7NWzsB.jpg
ORGANIZER;CN="Environmental Education Team":MAILTO:bgoldentyer@capefearbg.org
END:VEVENT
END:VCALENDAR