BEGIN:VCALENDAR
VERSION:2.0
PRODID:-//Cape Fear Botanical Gardens - ECPv6.15.20//NONSGML v1.0//EN
CALSCALE:GREGORIAN
METHOD:PUBLISH
X-WR-CALNAME:Cape Fear Botanical Gardens
X-ORIGINAL-URL:https://capefearbg.org
X-WR-CALDESC:Events for Cape Fear Botanical Gardens
REFRESH-INTERVAL;VALUE=DURATION:PT1H
X-Robots-Tag:noindex
X-PUBLISHED-TTL:PT1H
BEGIN:VTIMEZONE
TZID:America/New_York
BEGIN:DAYLIGHT
TZOFFSETFROM:-0500
TZOFFSETTO:-0400
TZNAME:EDT
DTSTART:20250309T070000
END:DAYLIGHT
BEGIN:STANDARD
TZOFFSETFROM:-0400
TZOFFSETTO:-0500
TZNAME:EST
DTSTART:20251102T060000
END:STANDARD
BEGIN:DAYLIGHT
TZOFFSETFROM:-0500
TZOFFSETTO:-0400
TZNAME:EDT
DTSTART:20260308T070000
END:DAYLIGHT
BEGIN:STANDARD
TZOFFSETFROM:-0400
TZOFFSETTO:-0500
TZNAME:EST
DTSTART:20261101T060000
END:STANDARD
BEGIN:DAYLIGHT
TZOFFSETFROM:-0500
TZOFFSETTO:-0400
TZNAME:EDT
DTSTART:20270314T070000
END:DAYLIGHT
BEGIN:STANDARD
TZOFFSETFROM:-0400
TZOFFSETTO:-0500
TZNAME:EST
DTSTART:20271107T060000
END:STANDARD
END:VTIMEZONE
BEGIN:VEVENT
DTSTART;TZID=America/New_York:20260423T170000
DTEND;TZID=America/New_York:20260423T183000
DTSTAMP:20260424T061738
CREATED:20260326T211220Z
LAST-MODIFIED:20260327T133909Z
UID:10008042-1776963600-1776969000@capefearbg.org
SUMMARY:Picture Trivia Event
DESCRIPTION:‘Leaf it to luck’ Picture Trivia at the Cape Fear Botanical Garden! This exciting gathering promises an evening filled with laughter\, friendly competition\, and community connection in a beautiful natural setting. \nInstead of traditional bingo cards\, players will receive cards filled with pictures\, adding a fun visual twist to this classic number-calling game. As images are called\, mark the matching picture on your card and compete through a total of 6 rounds for a chance to win prizes from the Garden Gift Shop. \nWhether you’re a seasoned player or brand new to the fun\, you’ll enjoy the friendly competition and the warm\, welcoming atmosphere that makes the Garden such a treasured place. \n🌿 Event Highlights: \n\nTwo Complimentary Playing Cards – Your admission includes two Picture Trivia cards\, giving you two chances to match images and win in each round. (Additional cards can be purchased for $2.)\nFree Seed Gift for Early Guests – The first 20 attendees will receive a complimentary packet of seeds collected from the Garden\, a special take-home piece of the Garden to plant and enjoy. 🌱\nNature-Inspired Prizes – Winners will receive special items from the Garden Gift Shop\, with prizes ranging from beautiful plants and charming wind chimes to unique garden décor to brighten your home or outdoor space.\nLimited Capacity – Space is limited due to the number of Picture Trivia cards available\, so be sure to reserve your spot early to guarantee your chance to play and enjoy the evening.\n\nStroll the Garden’s peaceful pathways before the games begin and soak in the natural beauty. Space is limited—only a set number of spots are available—so be sure to reserve your admission early! \nBring your lucky charm and enjoy a night where nature and nostalgia meet! \nFee: $8 for Members\, $20 for Guests \nLocation: Gift Shop Terrace (Entry Pav./Orangery as weather backup)\n \nLimited Availability. Please Preregister at: https://shop.capefearbg.org/SelectEvent.aspx?eventID=1000196 \n 
URL:https://capefearbg.org/event/picture-trivia-event/2026-04-23/
LOCATION:Cape Fear Botanical Garden\, 536 N. Eastern Boulevard\, Fayetteville\, NC\, 28301\, United States
CATEGORIES:Adult Programs
ATTACH;FMTTYPE=image/jpeg:https://capefearbg.org/wp-content/uploads/2026/03/Garden-TAM-Images-Picture-Trivia.jpg
ORGANIZER;CN="Visitor Services":MAILTO:cmathes@capfearbg.org
END:VEVENT
BEGIN:VEVENT
DTSTART;TZID=America/New_York:20260423T163000
DTEND;TZID=America/New_York:20260423T174500
DTSTAMP:20260424T061738
CREATED:20260326T182535Z
LAST-MODIFIED:20260326T182733Z
UID:10008035-1776961800-1776966300@capefearbg.org
SUMMARY:Chair Massage
DESCRIPTION:Visitors to the garden are invited to relax and unwind during a special wellness event hosted in partnership with students from the Fayetteville Technical Community College (FTCC) directed by Wendi Wilkey. \nSelect Thursday Nights: 4:30-5:45pm \nMassage therapy students will be offering complimentary chair massages to garden members and guests as part of their hands-on training. It’s a wonderful opportunity to enjoy the peaceful surroundings of the garden while receiving a refreshing\, stress-relieving massage from the next generation of wellness professionals. \n● Complimentary Chair Massages: Relax and unwind with a brief\, free chair massages provided by skilled massage therapy students from Fayetteville Technical Community College. \n● Hands-On Student Experience: Support future wellness professionals as they gain valuable real-world training. \n● Relaxing Garden Setting: Enjoy a peaceful moment of self-care surrounded by the beauty and calm of the garden. \n● Open to Members & Visitors: Both garden members and day visitors are welcome to participate. \n● Quick Wellness Break: Perfect for a refreshing pause during your garden visit—no long appointment needed. \n● Community Partnership: A special collaboration highlighting local education and community wellness. \nStop by\, take a moment for yourself\, and experience relaxation in bloom!
URL:https://capefearbg.org/event/thursday-night-chair-massage/2026-04-23/
LOCATION:Cape Fear Botanical Garden\, 536 N. Eastern Boulevard\, Fayetteville\, NC\, 28301\, United States
CATEGORIES:Adult Programs,Health & Wellness
ATTACH;FMTTYPE=image/jpeg:https://capefearbg.org/wp-content/uploads/2026/03/IMG4090231286110073327.jpg
ORGANIZER;CN="Visitor Services":MAILTO:cmathes@capfearbg.org
END:VEVENT
BEGIN:VEVENT
DTSTART;TZID=America/New_York:20260416T170000
DTEND;TZID=America/New_York:20260416T183000
DTSTAMP:20260424T061738
CREATED:20260326T213429Z
LAST-MODIFIED:20260326T213847Z
UID:10008051-1776358800-1776364200@capefearbg.org
SUMMARY:Learning Your Sewing Machine: A Sustainable Stitches Sewing Workshop
DESCRIPTION:Ready to get comfortable with your sewing machine? Join us for a hands-on\, beginner-friendly workshop where you’ll learn the essentials of machine operation and maintenance. \nBring your own sewing machine and follow along as instructor Ann Kreiger of Sew Natural Kreations guides you step-by-step to build confidence and keep your machine running smoothly. \nSpots are limited—reserve yours today! \nTickets: $10 for garden members\, $20 for non-members\n \nLimited Availability. Please Preregister at: https://shop.capefearbg.org/SelectEvent.aspx?eventID=1000197 \nAbout the Instructor: Ann Krieger has been turning fabric\, thread\, and cherished memories into lasting treasures since the 1970s. In 2015\, her passion for sewing became a full-time business\, Sew Natural Kreations \n  \n*** \nLooking to get creative and build your sewing skills? Join Ann Krieger of Fayetteville’s own Sew Natural Kreations for a fun and inspiring series of sewing classes! \nThis four-part series features one session per month\, each with a unique theme designed to help you grow your skills and confidence—whether you’re a beginner or more experienced. \n🧵 Class Schedule:\n• April 16th | 5:00–6:30 PM — How to Use Your Sewing Machine\n• May 21st | 5:00–6:30 PM — Mending by Hand\n• July 16th | 5:00–6:30 PM — Patchwork Pincushion\n• August 6th | 5:00–6:30 PM — Fabric Yo-Yos & Tote Decoration \nSessions are sold individually\, so you can sign up for just one—or join them all! No need to attend every class to participate. \nCome stitch\, create\, and connect in a relaxed\, welcoming environment. Each session offers hands-on learning and a project you can be proud of! \nSpots are limited—reserve yours today! \n 
URL:https://capefearbg.org/event/learning-your-sewing-machine-a-sustainable-stitches-sewing-workshop/
LOCATION:Cape Fear Botanical Garden\, 536 N. Eastern Boulevard\, Fayetteville\, NC\, 28301\, United States
CATEGORIES:Adult Programs,Hands-On Workshops
ATTACH;FMTTYPE=image/jpeg:https://capefearbg.org/wp-content/uploads/2026/03/3.jpg
ORGANIZER;CN="Visitor Services":MAILTO:cmathes@capfearbg.org
END:VEVENT
END:VCALENDAR